BEGIN:VCALENDAR
VERSION:2.0
PRODID:-//Lo Speziale - ECPv4.0.5//NONSGML v1.0//EN
CALSCALE:GREGORIAN
METHOD:PUBLISH
X-WR-CALNAME:Lo Speziale
X-ORIGINAL-URL:https://www.trattorialospeziale.it
X-WR-CALDESC:Events for Lo Speziale
BEGIN:VEVENT
DTSTART;TZID="Europe/Rome":20181224T200000
DTEND;TZID="Europe/Rome":20181224T230000
DTSTAMP:20260421T102905
CREATED:20181218T112039
LAST-MODIFIED:20181218T112039
UID:9076-1545681600-1545692400@www.trattorialospeziale.it
SUMMARY:Natale 2018 - Cena della vigilia
DESCRIPTION:Per la serata della vigilia abbiamo organizzato uno speciale menu per trascorrere al meglio questa serata. Nuovi sapori per un momento magico all'insegna della buona tavola.\n[cmsms_heading type="h1" font_family="Montserrat:400\,700" font_weight="normal" font_style="normal" text_align="center" margin_top="0" margin_bottom="20" animation_delay="0"]Il menu[/cmsms_heading]\n[cmsms_heading type="h2" font_family="Tangerine:400\,700" font_weight="normal" font_style="normal" text_align="center" margin_top="0" margin_bottom="20" animation_delay="0"]Antipasto[/cmsms_heading]\n\n[cmsms_menu_items animation_delay="0"][cmsms_menu_item price="--" currency="$"]Crema di zucca e guanciale croccante[/cmsms_menu_item][cmsms_menu_item price="--" animation_delay="0"]Bruschetta con pomodori\, frutti del cappero e pecorino[/cmsms_menu_item][cmsms_menu_item price="--" animation_delay="0"]Cannoli di formaggio con prosciutto e ricotta profumata all'arancia[/cmsms_menu_item][cmsms_menu_item price="--" animation_delay="0"]Zeppoline con rosmarino e nduja[/cmsms_menu_item][/cmsms_menu_items]\n\n[cmsms_heading type="h2" font_family="Tangerine:400\,700" font_weight="normal" font_style="normal" text_align="center" margin_top="0" margin_bottom="20" animation_delay="0"]Primo[/cmsms_heading]\n\n[cmsms_menu_items animation_delay="0"][cmsms_menu_item price="--" currency="$"]Rigatoni con radicchio\, prosiutto e pecorino erborinato[/cmsms_menu_item][/cmsms_menu_items]\n\n[cmsms_heading type="h2" font_family="Tangerine:400\,700" font_weight="normal" font_style="normal" text_align="center" margin_top="0" margin_bottom="20" animation_delay="0"]Secondo[/cmsms_heading]\n\n[cmsms_menu_items animation_delay="0"][cmsms_menu_item price="--" currency="$"]Scaloppine di maiale con uva\, mirto e grappa[/cmsms_menu_item][/cmsms_menu_items]\n\n[cmsms_heading type="h2" font_family="Tangerine:400\,700" font_weight="normal" font_style="normal" text_align="center" margin_top="0" margin_bottom="20" animation_delay="0"]Contorno[/cmsms_heading]\n\n[cmsms_menu_items animation_delay="0"][cmsms_menu_item price="--" currency="$"]Insalata mista con mele[/cmsms_menu_item][/cmsms_menu_items]\n\n[cmsms_heading type="h2" font_family="Tangerine:400\,700" font_weight="normal" font_style="normal" text_align="center" margin_top="0" margin_bottom="20" animation_delay="0"]Dolce[/cmsms_heading]\n\n[cmsms_menu_items animation_delay="0"][cmsms_menu_item price="--"]Tiramisù natalizio[/cmsms_menu_item][cmsms_menu_item price="--" animation_delay="0"]Panettone artigianale[/cmsms_menu_item][cmsms_menu_item price="--" animation_delay="0"]Frutta secca e frutta di stagione[/cmsms_menu_item][/cmsms_menu_items]\n\nLe bevande sono comprese nel prezzo (Vino della casa\, acqua\, bibite\, spumante\, caffè e amari)\nCosto: Eur 25\,00 a persona. Solo su prenotazione.
URL:https://www.trattorialospeziale.it/event/natale-2018/
LOCATION:Via Regina Margherita 1\, Petrizzi\, 88060\, Italia
CATEGORIES:Festivita'
ATTACH;FMTTYPE=image/jpeg:https://www.trattorialospeziale.it/wp-content/uploads/2018/12/locandina_natale2018.jpg
END:VEVENT
END:VCALENDAR