BEGIN:VCALENDAR
VERSION:2.0
PRODID:-//Lo Speziale - ECPv4.0.5//NONSGML v1.0//EN
CALSCALE:GREGORIAN
METHOD:PUBLISH
X-WR-CALNAME:Lo Speziale
X-ORIGINAL-URL:https://www.trattorialospeziale.it
X-WR-CALDESC:Events for Lo Speziale
BEGIN:VEVENT
DTSTART;TZID="Europe/Rome":20161231T200000
DTEND;TZID="Europe/Rome":20170101T010000
DTSTAMP:20260421T105542
CREATED:20161219T224148
LAST-MODIFIED:20161219T224148
UID:9064-1483214400-1483232400@www.trattorialospeziale.it
SUMMARY:Cenone di fine anno
DESCRIPTION:Per il cenone di fine anno abbiamo organizzato uno speciale menu per trascorrere al meglio questa serata.\n[cmsms_heading type="h1" font_family="Montserrat:400\,700" font_weight="normal" font_style="normal" text_align="center" margin_top="0" margin_bottom="20" animation_delay="0"]Il menu[/cmsms_heading]\n[cmsms_heading type="h2" font_family="Tangerine:400\,700" font_weight="normal" font_style="normal" text_align="center" margin_top="0" margin_bottom="20" animation_delay="0"]Antipasto[/cmsms_heading]\n\n[cmsms_menu_items animation_delay="0"][cmsms_menu_item price="--" currency="$"]Nidi di patate con lenticchie e pancetta[/cmsms_menu_item][cmsms_menu_item price="--" animation_delay="0"]Cestini di pasta brisee con crema di ricotta alle erbe e noci[/cmsms_menu_item][cmsms_menu_item price="--" animation_delay="0"]Cavolfiore pastellato[/cmsms_menu_item][cmsms_menu_item price="--" animation_delay="0"]Medaglioni di polenta con radicchio caramellato[/cmsms_menu_item][/cmsms_menu_items]\n\n[cmsms_heading type="h2" font_family="Tangerine:400\,700" font_weight="normal" font_style="normal" text_align="center" margin_top="0" margin_bottom="20" animation_delay="0"]Primo[/cmsms_heading]\n\n[cmsms_menu_items animation_delay="0"][cmsms_menu_item price="--" currency="$"]Chitarrine al pesto di noci e verza con guanciale croccante[/cmsms_menu_item][cmsms_menu_item price="--" animation_delay="0"]Caserecce al ragù di maiale al\nprofumo d’arancia[/cmsms_menu_item][/cmsms_menu_items]\n\n[cmsms_heading type="h2" font_family="Tangerine:400\,700" font_weight="normal" font_style="normal" text_align="center" margin_top="0" margin_bottom="20" animation_delay="0"]Secondo[/cmsms_heading]\n\n[cmsms_menu_items animation_delay="0"][cmsms_menu_item price="--" currency="$"]Arista di maiale ripiena alle mele[/cmsms_menu_item][/cmsms_menu_items]\n\n[cmsms_heading type="h2" font_family="Tangerine:400\,700" font_weight="normal" font_style="normal" text_align="center" margin_top="0" margin_bottom="20" animation_delay="0"]Contorno[/cmsms_heading]\n\n[cmsms_menu_items animation_delay="0"][cmsms_menu_item price="--" currency="$"]Insalata mista con rapa rossa\, noci e melagrana[/cmsms_menu_item][/cmsms_menu_items]\n\n[cmsms_heading type="h2" font_family="Tangerine:400\,700" font_weight="normal" font_style="normal" text_align="center" margin_top="0" margin_bottom="20" animation_delay="0"]Dolce[/cmsms_heading]\n\n[cmsms_menu_items animation_delay="0"][cmsms_menu_item price="--"]Tiramisù natalizio[/cmsms_menu_item][cmsms_menu_item price="--" animation_delay="0"]Panettone artigianale[/cmsms_menu_item][cmsms_menu_item price="--" animation_delay="0"]Frutta secca e frutta di stagione[/cmsms_menu_item][/cmsms_menu_items]\n\nLe bevande sono comprese nel prezzo (Vino della casa\, acqua\, bibite\, spumante\, caffè e amari)\nCosto: Eur 30\,00 a persona. Solo su prenotazione.
URL:https://www.trattorialospeziale.it/event/cenone-fine-anno/
LOCATION:Via Regina Margherita 1\, Petrizzi\, 88060\, Italia
ATTACH;FMTTYPE=image/jpeg:https://www.trattorialospeziale.it/wp-content/uploads/2015/04/locandina_natale2016-01.jpg
END:VEVENT
END:VCALENDAR