BEGIN:VCALENDAR
VERSION:2.0
PRODID:-//Lo Speziale - ECPv4.0.5//NONSGML v1.0//EN
CALSCALE:GREGORIAN
METHOD:PUBLISH
X-WR-CALNAME:Lo Speziale
X-ORIGINAL-URL:https://www.trattorialospeziale.it
X-WR-CALDESC:Events for Lo Speziale
BEGIN:VEVENT
DTSTART;TZID="Europe/Rome":20171231T200000
DTEND;TZID="Europe/Rome":20180101T010000
DTSTAMP:20260423T094536
CREATED:20171219T204507
LAST-MODIFIED:20171219T205031
UID:9071-1514750400-1514768400@www.trattorialospeziale.it
SUMMARY:Cenone di capodanno 2018
DESCRIPTION:Cenone di fine anno.\n[cmsms_heading type="h1" font_family="Montserrat:400\,700" font_weight="normal" font_style="normal" text_align="center" margin_top="0" margin_bottom="20" animation_delay="0"]Il menu[/cmsms_heading]\n[cmsms_heading type="h2" font_family="Tangerine:400\,700" font_weight="normal" font_style="normal" text_align="center" margin_top="0" margin_bottom="20" animation_delay="0"]Antipasto[/cmsms_heading]\n\n[cmsms_menu_items animation_delay="0"][cmsms_menu_item price="--" currency="$"]Zucca gratinata[/cmsms_menu_item][cmsms_menu_item price="--" animation_delay="0"]Cestino di prosciutto con cruditè di verdure e glassa di aceto balsamico[/cmsms_menu_item][cmsms_menu_item price="--" animation_delay="0"]Lenticchie[/cmsms_menu_item][cmsms_menu_item price="--" animation_delay="0"]Flan di zucca[/cmsms_menu_item][cmsms_menu_item price="--" animation_delay="0"]Cavolfiore pastellato[/cmsms_menu_item][/cmsms_menu_items]\n\n[cmsms_heading type="h2" font_family="Tangerine:400\,700" font_weight="normal" font_style="normal" text_align="center" margin_top="0" margin_bottom="20" animation_delay="0"]Primo[/cmsms_heading]\n\n[cmsms_menu_items animation_delay="0"][cmsms_menu_item price="--" currency="$"]Chitarrine cacio e pepe con pecorino erborinato e cavolo rosso stufato all'aceto balsamico e anice stellato[/cmsms_menu_item][/cmsms_menu_items]\n\n[cmsms_heading type="h2" font_family="Tangerine:400\,700" font_weight="normal" font_style="normal" text_align="center" margin_top="0" margin_bottom="20" animation_delay="0"]Secondo[/cmsms_heading]\n\n[cmsms_menu_items animation_delay="0"][cmsms_menu_item price="--" currency="$"]Coscia di maiale al forno glassata[/cmsms_menu_item][/cmsms_menu_items]\n\n[cmsms_heading type="h2" font_family="Tangerine:400\,700" font_weight="normal" font_style="normal" text_align="center" margin_top="0" margin_bottom="20" animation_delay="0"]Contorno[/cmsms_heading]\n\n[cmsms_menu_items animation_delay="0"][cmsms_menu_item price="--" currency="$"]Insalata mista con arance[/cmsms_menu_item][/cmsms_menu_items]\n\n[cmsms_heading type="h2" font_family="Tangerine:400\,700" font_weight="normal" font_style="normal" text_align="center" margin_top="0" margin_bottom="20" animation_delay="0"]Dolce[/cmsms_heading]\n\n[cmsms_menu_items animation_delay="0"][cmsms_menu_item price="--"]Crème caramel[/cmsms_menu_item][cmsms_menu_item price="--" animation_delay="0"]Panettone artigianale[/cmsms_menu_item][cmsms_menu_item price="--" animation_delay="0"]Frutta secca e frutta di stagione[/cmsms_menu_item][/cmsms_menu_items]\n\nLe bevande sono comprese nel prezzo (Vino della casa\, acqua\, bibite\, spumante e caffè)\nCosto: Eur 30\,00 a persona. Solo su prenotazione.
URL:https://www.trattorialospeziale.it/event/cenone-capodanno-2018/
LOCATION:Via Regina Margherita 1\, Petrizzi\, 88060\, Italia
CATEGORIES:Festivita'
ATTACH;FMTTYPE=image/jpeg:https://www.trattorialospeziale.it/wp-content/uploads/2017/12/locandina_natale2017b.jpg
END:VEVENT
END:VCALENDAR